BEGIN:VCALENDAR
VERSION:2.0
PRODID:-//Institute for Studies in Transdisciplinary Engineering Education &amp; Practice (ISTEP) - ECPv6.15.0.1//NONSGML v1.0//EN
CALSCALE:GREGORIAN
METHOD:PUBLISH
X-ORIGINAL-URL:https://istep.utoronto.ca
X-WR-CALDESC:Events for Institute for Studies in Transdisciplinary Engineering Education &amp; Practice (ISTEP)
REFRESH-INTERVAL;VALUE=DURATION:PT1H
X-Robots-Tag:noindex
X-PUBLISHED-TTL:PT1H
BEGIN:VTIMEZONE
TZID:UTC
BEGIN:STANDARD
TZOFFSETFROM:+0000
TZOFFSETTO:+0000
TZNAME:UTC
DTSTART:20250101T000000
END:STANDARD
END:VTIMEZONE
BEGIN:VEVENT
DTSTART;TZID=UTC:20250905T110000
DTEND;TZID=UTC:20250905T140000
DTSTAMP:20260423T031033
CREATED:20250609T172446Z
LAST-MODIFIED:20250806T194518Z
UID:32674-1757070000-1757080800@istep.utoronto.ca
SUMMARY:Welcome to Graduate School
DESCRIPTION:Are you in your first year of graduate study at U of T Engineering? Set yourself up for success by attending Welcome to Graduate School!   \nThis in-person event will introduce you to engineering-specific programs and resources designed to enhance your graduate experience. During the session\, you’ll learn to use a Graduate Map to plan your professional-development pathway. You will also 1) meet peers in the graduate community; 2) discover essential graduate-school skills; and 3) learn the value of enriching your technical degree with U of T Engineering’s initiatives. You will leave this event with a new network of peers\, a toolkit of resources\, and a clear plan for next steps in your graduate experience.    \nLunch will be served!  \nThis event is open to first-year graduate students.  
URL:https://istep.utoronto.ca/event/welcome-to-graduate-school/
LOCATION:GB202 – Gailbrath Building – Room 202\, 35 St George St\, Toronto\, Ontario\, M5S 1A4\, Canada
END:VEVENT
END:VCALENDAR